BEGIN:VCALENDAR
VERSION:2.0
PRODID:-//wp-events-plugin.com//7.2.2.1//EN
TZID:America/Los_Angeles
X-WR-TIMEZONE:America/Los_Angeles
BEGIN:VEVENT
UID:8888@uucpa.org
DTSTART;TZID=America/Los_Angeles:20210309T191500
DTEND;TZID=America/Los_Angeles:20210309T204500
DTSTAMP:20210219T205205Z
URL:https://www.uucpa.org/events/white-folks-dismantling-white-supremacy-2
 021-03-09/
SUMMARY:White Folks Dismantling White Supremacy
DESCRIPTION:White Folks Dismantling White Supremacy  Co-sponsored by the Ac
 tion Council and the Adult Religious Education Committee\, this study/acti
 on group meets twice a month\, on the second and fourth Tuesday evenings f
 rom 7:15 to 8:45 via Zoom. The second-Tuesday sessions\, led by Rev. Amy Z
 ucker Morgenstern\, are currently focused on the series "Seeing White" fro
 m the podcast Scene on Radio. The fourth-Tuesday sessions\, led by Kristi 
 Iverson and Susan Owicki\, are focused on action and reflection.\n\nOn Mar
 ch 9\, we'll listen to episode 11 of "Seeing White" together and then talk
  about the images of danger and violence between black and white US Americ
 ans. If you've missed previous sessions and would like some context\, you 
 can read the transcripts of all previous episodes\, or of course listen to
  them.\n\nIf you would like to participate\, please sign up to be on the c
 lass email list by sending an email to DismantlingWhiteSupremacy+subscribe
 @uucpa.org.\n\nWe are calling the group "White Folks . . . " because we re
 cognize the need for white people to do much of the work of dismantling wh
 ite supremacy. It's also important to have anti-racism learning spaces for
  white folks\, where they can grapple with new ideas about racism and spea
 k candidly about their fears and misconceptions. It can be painful for peo
 ple of color to witness these conversations\, so we have created this spac
 e apart from the main body of the congregation. That said\, all people of 
 whatever race or background are warmly welcome at any or all sessions. 
ATTACH;FMTTYPE=image/jpeg:https://www.uucpa.org/wp-content/uploads/2020/07
 /White-Folks-DISMANTLING-WHITE-SUPREMACY-1.png
CATEGORIES:Action Council,Adult,Classes,Learning
END:VEVENT
BEGIN:VTIMEZONE
TZID:America/Los_Angeles
X-LIC-LOCATION:America/Los_Angeles
BEGIN:STANDARD
DTSTART:20201101T010000
TZOFFSETFROM:-0700
TZOFFSETTO:-0800
TZNAME:PST
END:STANDARD
END:VTIMEZONE
END:VCALENDAR