BEGIN:VCALENDAR
VERSION:2.0
PRODID:-//wp-events-plugin.com//7.2.2.1//EN
TZID:America/Los_Angeles
X-WR-TIMEZONE:America/Los_Angeles
BEGIN:VEVENT
UID:9973@uucpa.org
DTSTART;TZID=America/Los_Angeles:20210914T191500
DTEND;TZID=America/Los_Angeles:20210914T204500
DTSTAMP:20210911T145547Z
URL:https://www.uucpa.org/events/white-folks-dismantling-white-supremacy-c
 aste/
SUMMARY:White Folks Dismantling White Supremacy: Caste
DESCRIPTION:White Folks Dismantling White Supremacy: Caste  During this ses
 sion\, group regular Barbara Schonborn introduces us to the "instant Ameri
 can classic" (says Dwight Garner\, The New York Times)\, Caste: The Origin
  of Our Discontents\, by Isabel Wilkerson. Caste and Wilkerson's previous 
 book\, The Warmth of Other Suns\, have been called "The missing puzzle pie
 ce of our country's history." The Chicago Tribune advised that Caste “sh
 ould be at the top of every American’s reading list." If it's been on yo
 urs but you haven't gotten to it yet\, or if you have read it and are itch
 ing to talk about it with others\, this session will be stimulating and in
 spiring. Hope to see you there!\n\nIf you would like to attend this sessio
 n and are not subscribed to the email list\, please send an email to Dism
 antlingWhiteSupremacy+subscribe@uucpa.org. Zoom information for the sessio
 n will be sent to this list early next week. We welcome new attendees at a
 ny time!\n\n\n\nCo-sponsored by the Action Council and the Adult Religious
  Education Committee\, this study/action group meets twice a month\, on th
 e second and fourth Tuesday evenings from 7:15 to 8:45 via Zoom. The secon
 d-Tuesday sessions are led by Rev. Amy Zucker Morgenstern and the fourth-T
 uesday sessions by Kristi Iverson and Susan Owicki.\n\nWe call the group 
 “White Folks . . . ” because we recognize the need for white people to
  do much of the work of dismantling white supremacy. It’s also important
  to have anti-racism learning spaces for white folks\, where they can grap
 ple with new ideas about racism and speak candidly about their fears and m
 isconceptions. It can be painful for people of color to witness these conv
 ersations\, so we have created this space apart from the main body of the 
 congregation. That said\, all people of whatever race or background are wa
 rmly welcome to attend any or all sessions. 
CATEGORIES:Adult,Classes,Learning
END:VEVENT
BEGIN:VTIMEZONE
TZID:America/Los_Angeles
X-LIC-LOCATION:America/Los_Angeles
BEGIN:DAYLIGHT
DTSTART:20210314T030000
TZOFFSETFROM:-0800
TZOFFSETTO:-0700
TZNAME:PDT
END:DAYLIGHT
END:VTIMEZONE
END:VCALENDAR