BEGIN:VCALENDAR
VERSION:2.0
PRODID:-//wp-events-plugin.com//7.2.2.1//EN
TZID:America/Los_Angeles
X-WR-TIMEZONE:America/Los_Angeles
BEGIN:VEVENT
UID:2666@uucpa.org
DTSTART;TZID=America/Los_Angeles:20171221T190000
DTEND;TZID=America/Los_Angeles:20171221T203000
DTSTAMP:20171217T161752Z
URL:https://www.uucpa.org/events/winter-solstice-service-2/
SUMMARY:Winter Solstice Service
DESCRIPTION:Winter Solstice Service  Join us on this longest night of the y
 ear!  Our simple ceremony lasts under an hour\, and is followed by abunda
 nt food - (cheese\, dips\, pies\, nuts...) and also hot mulled wine and ho
 t cider.  Just come - food provided.  Our solstice ceremony includes med
 itative music\, readings\, and all of us lighting candles to celebrate the
  return of the light.  We conclude by burning a yule log outdoors in our 
 fire pit.  Children and adults are welcomed\, we can all enjoy sharing a 
 fire and some food on a dark night.\n\nhttps://www.uucpa.org/worship/holid
 ays-and-traditions/ 
CATEGORIES:Holidays,Special Events,Worship Services
LOCATION:Main Hall
X-APPLE-STRUCTURED-LOCATION;VALUE=URI;X-ADDRESS=505 E Charleston Rd\, Palo 
 Alto\, CA\, 94306\, United States;X-APPLE-RADIUS=100;X-TITLE=Main Hall:geo
 :0,0
END:VEVENT
BEGIN:VTIMEZONE
TZID:America/Los_Angeles
X-LIC-LOCATION:America/Los_Angeles
BEGIN:STANDARD
DTSTART:20171105T010000
TZOFFSETFROM:-0700
TZOFFSETTO:-0800
TZNAME:PST
END:STANDARD
END:VTIMEZONE
END:VCALENDAR