BEGIN:VCALENDAR
VERSION:2.0
PRODID:-//wp-events-plugin.com//7.2.2.1//EN
TZID:America/Los_Angeles
X-WR-TIMEZONE:America/Los_Angeles
BEGIN:VEVENT
UID:7529@uucpa.org
DTSTART;TZID=America/Los_Angeles:20200322T130000
DTEND;TZID=America/Los_Angeles:20200322T143000
DTSTAMP:20200319T151517Z
URL:https://www.uucpa.org/events/womens-group-weekend-women-2-2020-03-22/
SUMMARY:Womens Group - Weekend Women
DESCRIPTION:Womens Group - Weekend Women  UUCPA is closed to in-person even
 ts at least through April 7\, 2020.  Please check with your group contact
  to find out if/how you are meeting online.\n\n\n\nUUCPA's newest women's 
 group\, Weekend Women.\n\n 	Date: 2nd and 4th Sundays each month\n 	Time: 
 1:00-2:30 p.m.\n 	Location: Room A\n 	Facilitator: Rotating leadership.\n 
 	Contact: weekend-women-info@uucpa.org\n 	Before attending your first meet
 ing\, please confirm that there is still room\, via email or by talking wi
 th BJ Wishinsky.\n\nhttps://www.uucpa.org/connection/affinity-groups/women
 s-groups/ 
END:VEVENT
BEGIN:VTIMEZONE
TZID:America/Los_Angeles
X-LIC-LOCATION:America/Los_Angeles
BEGIN:DAYLIGHT
DTSTART:20200308T030000
TZOFFSETFROM:-0800
TZOFFSETTO:-0700
TZNAME:PDT
END:DAYLIGHT
END:VTIMEZONE
END:VCALENDAR